Workbook

Sheet お申込書
D2: APPLICATION FORM
A4: Application date （申込日）mm/dd/yyyy | F4: / | H4: / 2023 | I4: PIC （代表者名）
A5: Name(English) （契約者名） | I5: Contract type （契約形態）
A6: Company Name(Vietnamese)
A7: Address(English) （住所）
A8: Address(Vietnamese)
A9: TEL:（電話番号） | I9: Tax Code
A10: Occupation （業種） | E10: 製造
A11: Period of insurance（保険期間）mm/dd/yyyy | E11: From | I11: To | J11: =F11+365 -> 365
A12: Attachment （添付資料） | E12: □ as attached detail and declaration sheet, ( ) sheet(s)
E13: ※ Only if new contractor or renewal contractor who is instructed by the insurance company.
A14: Do you have Japan social health care insurance?（日本の健康保険の加入有無） | E14: □ Everyone □ Some □ Nobody
E15: ※In case of some above, please clearly mention who have social HC to the following.
B19: ※誕生日の入力と保険プランを選択していただくと保険料が自動計算されます。 | K19: 単位：1000VND
B20: The insured name （被保険者名） | C20: Passport No. （パスポート番号） | D20: Nationality （国籍） | E20: Date of birth （誕生日） yyyy/mm/dd | F20: Age （保険開始時年齢） | G20: Gender （性別） | H20: Insurance Plan（保険プラン） | K20: Premium （保険料） | L20: Social HC in Japan （日本の健康保険の加入有無）
H21: Basic Coverage （基本補償） | I21: Option1 Dental （歯科治療） | J21: Option2 Death&TPD due to Sickness （疾病死亡・後遺障害）
A22: 1 | F22: =DATEDIF(E22,$F$11,"Y") -> 0 | K22: =N22+O22+P22 -> 0 | L22: 有 | N22: =IF(AND(F22<=4,H22="プラン1"),保険料一覧!$E$2,IF(AND(F22<=9,H22="プラン1"),保険料一覧!$E$3,IF(AND(F22<=14,H22="プラン1"),保険料一覧!$E$4,IF(AND(F22<=19,H22="プラン1"),保険料一覧!$E$5,IF(AND(F22<=24,H22="プラン1"),保険料一覧!$E$6,IF(AND(F22<=29,H22="プラン1"),保険料一覧!$E$7,IF(AND(F22<=34,H22="プラン1"),保険料一覧!$E$8,IF(AND(F22<=39,H22="プラン1"),保険料一覧!$E$9,IF(AND(F22<=44,H22="プラン1"),保険料一覧!$E$10,IF(AND(F22<=49,H22="プラン1"),保険料一覧!$E$11,IF(AND(F22<=54,H22="プラン1"),保険料一覧!$E$12,IF(AND(F22<=59,H22="プラン1"),保険料一覧!$E$13,IF(AND(F22<=64,H22="プラン1"),保険料一覧!$E$14,IF(AND(F22<=69,H22="プラン1"),保険料一覧!$E$15,IF(AND(F22<=75,H22="プラン1"),保険料一覧!$E$16,IF(AND(F22<=4,H22="プラン2"),保険料一覧!$F$2,IF(AND(F22<=9,H22="プラン2"),保険料一覧!$F$3,IF(AND(F22<=14,H22="プラン2"),保険料一覧!$F$4,IF(AND(F22<=19,H22="プラン2"),保険料一覧!$F$5,IF(AND(F22<=24,H22="プラン2"),保険料一覧!$F$6,IF(AND(F22<=29,H22="プラン2"),保険料一覧!$F$7,IF(AND(F22<=34,H22="プラン2"),保険料一覧!$F$8,IF(AND(F22<=39,H22="プラン2"),保険料一覧!$F$9,IF(AND(F22<=44,H22="プラン2"),保険料一覧!$F$10,IF(AND(F22<=49,H22="プラン2"),保険料一覧!$F$11,IF(AND(F22<=54,H22="プラン2"),保険料一覧!$F$12,IF(AND(F22<=59,H22="プラン2"),保険料一覧!$F$13,IF(AND(F22<=64,H22="プラン2"),保険料一覧!$F$14,IF(AND(F22<=69,H22="プラン2"),保険料一覧!$F$15,IF(AND(F22<=75,H22="プラン2"),保険料一覧!$F$16,IF(AND(F22<=4,H22="プラン3"),保険料一覧!$G$2,IF(AND(F22<=9,H22="プラン3"),保険料一覧!$G$3,IF(AND(F22<=14,H22="プラン3"),保険料一覧!$G$4,IF(AND(F22<=19,H22="プラン3"),保険料一覧!$G$5,IF(AND(F22<=24,H22="プラン3"),保険料一覧!$G$6,IF(AND(F22<=29,H22="プラン3"),保険料一覧!$G$7,IF(AND(F22<=34,H22="プラン3"),保険料一覧!$G$8,IF(AND(F22<=39,H22="プラン3"),保険料一覧!$G$9,IF(AND(F22<=44,H22="プラン3"),保険料一覧!$G$10,IF(AND(F22<=49,H22="プラン3"),保険料一覧!$G$11,IF(AND(F22<=54,H22="プラン3"),保険料一覧!$G$12,IF(AND(F22<=59,H22="プラン3"),保険料一覧!$G$13,IF(AND(F22<=64,H22="プラン3"),保険料一覧!$G$14,IF(AND(F22<=69,H22="プラン3"),保険料一覧!$G$15,IF(AND(F22<=75,H22="プラン3"),保険料一覧!$G$16,IF(AND(F22<=4,H22="プラン4"),保険料一覧!$H$2,IF(AND(F22<=9,H22="プラン3"),保険料一覧!$H$3,IF(AND(F22<=14,H22="プラン3"),保険料一覧!$H$4,IF(AND(F22<=19,H22="プラン4"),保険料一覧!$G$5,IF(AND(F22<=24,H22="プラン4"),保険料一覧!$G$6,IF(AND(F22<=29,H22="プラン4"),保険料一覧!$H$7,IF(AND(F22<=34,H22="プラン4"),保険料一覧!$H$8,IF(AND(F22<=39,H22="プラン4"),保険料一覧!$H$9,IF(AND(F22<=44,H22="プラン4"),保険料一覧!$H$10,IF(AND(F22<=49,H22="プラン4"),保険料一覧!$H$11,IF(AND(F22<=54,H22="プラン4"),保険料一覧!$H$12,IF(AND(F22<=59,H22="プラン4"),保険料一覧!$H$13,IF(AND(F22<=64,H22="プラン4"),保険料一覧!$H$14,IF(AND(F22<=69,H22="プラン4"),保険料一覧!$H$15,IF(AND(F22<=75,H22="プラン4"),保険料一覧!$H$16,0)))))))))))))))))))))))))))))))))))))))))))))))))))))))))))) -> 0 | O22: =IF(I22="なし",0,IF(I22="プラン1",保険料一覧!$E$20,IF(お申込書!I22="プラン2",保険料一覧!$F$20,IF(お申込書!I22="プラン3",保険料一覧!$G$20,0)))) -> 0 | P22: =IF(AND(F22<=4,J22="プラン1"),保険料一覧!$E$23,IF(AND(F22<=9,J22="プラン1"),保険料一覧!$E$24,IF(AND(F22<=14,J22="プラン1"),保険料一覧!$E$25,IF(AND(F22<=19,J22="プラン1"),保険料一覧!$E$26,IF(AND(F22<=24,J22="プラン1"),保険料一覧!$E$27,IF(AND(F22<=29,J22="プラン1"),保険料一覧!$E$28,IF(AND(F22<=34,J22="プラン1"),保険料一覧!$E$29,IF(AND(F22<=39,J22="プラン1"),保険料一覧!$E$30,IF(AND(F22<=44,J22="プラン1"),保険料一覧!$E$31,IF(AND(F22<=49,J22="プラン1"),保険料一覧!$E$32,IF(AND(F22<=54,J22="プラン1"),保険料一覧!$E$33,IF(AND(F22<=59,J22="プラン1"),保険料一覧!$E$34,IF(AND(F22<=64,J22="プラン1"),保険料一覧!$E$35,IF(AND(F22<=69,J22="プラン1"),保険料一覧!$E$36,IF(AND(F22<=75,J22="プラン1"),保険料一覧!$E$37,IF(AND(F22<=4,J22="プラン2"),保険料一覧!$F$23,IF(AND(F22<=9,J22="プラン2"),保険料一覧!$F$24,IF(AND(F22<=14,J22="プラン2"),保険料一覧!$F$25,IF(AND(F22<=19,J22="プラン2"),保険料一覧!$F$26,IF(AND(F22<=24,J22="プラン2"),保険料一覧!$F$27,IF(AND(F22<=29,J22="プラン2"),保険料一覧!$F$28,IF(AND(F22<=34,J22="プラン2"),保険料一覧!$F$29,IF(AND(F22<=39,J22="プラン2"),保険料一覧!$F$30,IF(AND(F22<=44,J22="プラン2"),保険料一覧!$F$31,IF(AND(F22<=49,J22="プラン2"),保険料一覧!$F$32,IF(AND(F22<=54,J22="プラン2"),保険料一覧!$F$33,IF(AND(F22<=59,J22="プラン2"),保険料一覧!$F$34,IF(AND(F22<=64,J22="プラン2"),保険料一覧!$F$35,IF(AND(F22<=69,J22="プラン2"),保険料一覧!$F$36,IF(AND(F22<=75,J22="プラン2"),保険料一覧!$F$37,IF(AND(F22<=4,J22="プラン3"),保険料一覧!$G$23,IF(AND(F22<=9,J22="プラン3"),保険料一覧!$G$24,IF(AND(F22<=14,J22="プラン3"),保険料一覧!$G$25,IF(AND(F22<=19,J22="プラン3"),保険料一覧!$G$26,IF(AND(F22<=24,J22="プラン3"),保険料一覧!$G$27,IF(AND(F22<=29,J22="プラン3"),保険料一覧!$G$28,IF(AND(F22<=34,J22="プラン3"),保険料一覧!$G$29,IF(AND(F22<=39,J22="プラン3"),保険料一覧!$G$30,IF(AND(F22<=44,J22="プラン3"),保険料一覧!$G$31,IF(AND(F22<=49,J22="プラン3"),保険料一覧!$G$32,IF(AND(F22<=54,J22="プラン3"),保険料一覧!$G$33,IF(AND(F22<=59,J22="プラン3"),保険料一覧!$G$34,IF(AND(F22<=64,J22="プラン3"),保険料一覧!$G$35,IF(AND(F22<=69,J22="プラン3"),保険料一覧!$G$36,IF(AND(F22<=75,J22="プラン3"),保険料一覧!$G$37,0))))))))))))))))))))))))))))))))))))))))))))) -> 0
A23: 2 | F23: =DATEDIF(E23,$F$11,"Y") -> 0 | K23: =N23+O23+P23 -> 0 | N23: =IF(AND(F23<=4,H23="プラン1"),保険料一覧!$E$2,IF(AND(F23<=9,H23="プラン1"),保険料一覧!$E$3,IF(AND(F23<=14,H23="プラン1"),保険料一覧!$E$4,IF(AND(F23<=19,H23="プラン1"),保険料一覧!$E$5,IF(AND(F23<=24,H23="プラン1"),保険料一覧!$E$6,IF(AND(F23<=29,H23="プラン1"),保険料一覧!$E$7,IF(AND(F23<=34,H23="プラン1"),保険料一覧!$E$8,IF(AND(F23<=39,H23="プラン1"),保険料一覧!$E$9,IF(AND(F23<=44,H23="プラン1"),保険料一覧!$E$10,IF(AND(F23<=49,H23="プラン1"),保険料一覧!$E$11,IF(AND(F23<=54,H23="プラン1"),保険料一覧!$E$12,IF(AND(F23<=59,H23="プラン1"),保険料一覧!$E$13,IF(AND(F23<=64,H23="プラン1"),保険料一覧!$E$14,IF(AND(F23<=69,H23="プラン1"),保険料一覧!$E$15,IF(AND(F23<=75,H23="プラン1"),保険料一覧!$E$16,IF(AND(F23<=4,H23="プラン2"),保険料一覧!$F$2,IF(AND(F23<=9,H23="プラン2"),保険料一覧!$F$3,IF(AND(F23<=14,H23="プラン2"),保険料一覧!$F$4,IF(AND(F23<=19,H23="プラン2"),保険料一覧!$F$5,IF(AND(F23<=24,H23="プラン2"),保険料一覧!$F$6,IF(AND(F23<=29,H23="プラン2"),保険料一覧!$F$7,IF(AND(F23<=34,H23="プラン2"),保険料一覧!$F$8,IF(AND(F23<=39,H23="プラン2"),保険料一覧!$F$9,IF(AND(F23<=44,H23="プラン2"),保険料一覧!$F$10,IF(AND(F23<=49,H23="プラン2"),保険料一覧!$F$11,IF(AND(F23<=54,H23="プラン2"),保険料一覧!$F$12,IF(AND(F23<=59,H23="プラン2"),保険料一覧!$F$13,IF(AND(F23<=64,H23="プラン2"),保険料一覧!$F$14,IF(AND(F23<=69,H23="プラン2"),保険料一覧!$F$15,IF(AND(F23<=75,H23="プラン2"),保険料一覧!$F$16,IF(AND(F23<=4,H23="プラン3"),保険料一覧!$G$2,IF(AND(F23<=9,H23="プラン3"),保険料一覧!$G$3,IF(AND(F23<=14,H23="プラン3"),保険料一覧!$G$4,IF(AND(F23<=19,H23="プラン3"),保険料一覧!$G$5,IF(AND(F23<=24,H23="プラン3"),保険料一覧!$G$6,IF(AND(F23<=29,H23="プラン3"),保険料一覧!$G$7,IF(AND(F23<=34,H23="プラン3"),保険料一覧!$G$8,IF(AND(F23<=39,H23="プラン3"),保険料一覧!$G$9,IF(AND(F23<=44,H23="プラン3"),保険料一覧!$G$10,IF(AND(F23<=49,H23="プラン3"),保険料一覧!$G$11,IF(AND(F23<=54,H23="プラン3"),保険料一覧!$G$12,IF(AND(F23<=59,H23="プラン3"),保険料一覧!$G$13,IF(AND(F23<=64,H23="プラン3"),保険料一覧!$G$14,IF(AND(F23<=69,H23="プラン3"),保険料一覧!$G$15,IF(AND(F23<=75,H23="プラン3"),保険料一覧!$G$16,IF(AND(F23<=4,H23="プラン4"),保険料一覧!$H$2,IF(AND(F23<=9,H23="プラン3"),保険料一覧!$H$3,IF(AND(F23<=14,H23="プラン3"),保険料一覧!$H$4,IF(AND(F23<=19,H23="プラン4"),保険料一覧!$G$5,IF(AND(F23<=24,H23="プラン4"),保険料一覧!$G$6,IF(AND(F23<=29,H23="プラン4"),保険料一覧!$H$7,IF(AND(F23<=34,H23="プラン4"),保険料一覧!$H$8,IF(AND(F23<=39,H23="プラン4"),保険料一覧!$H$9,IF(AND(F23<=44,H23="プラン4"),保険料一覧!$H$10,IF(AND(F23<=49,H23="プラン4"),保険料一覧!$H$11,IF(AND(F23<=54,H23="プラン4"),保険料一覧!$H$12,IF(AND(F23<=59,H23="プラン4"),保険料一覧!$H$13,IF(AND(F23<=64,H23="プラン4"),保険料一覧!$H$14,IF(AND(F23<=69,H23="プラン4"),保険料一覧!$H$15,IF(AND(F23<=75,H23="プラン4"),保険料一覧!$H$16,0)))))))))))))))))))))))))))))))))))))))))))))))))))))))))))) -> 0 | O23: =IF(I23="なし",0,IF(I23="プラン1",保険料一覧!$E$20,IF(お申込書!I23="プラン2",保険料一覧!$F$20,IF(お申込書!I23="プラン3",保険料一覧!$G$20,0)))) -> 0 | P23: =IF(AND(F23<=4,J23="プラン1"),保険料一覧!$E$23,IF(AND(F23<=9,J23="プラン1"),保険料一覧!$E$24,IF(AND(F23<=14,J23="プラン1"),保険料一覧!$E$25,IF(AND(F23<=19,J23="プラン1"),保険料一覧!$E$26,IF(AND(F23<=24,J23="プラン1"),保険料一覧!$E$27,IF(AND(F23<=29,J23="プラン1"),保険料一覧!$E$28,IF(AND(F23<=34,J23="プラン1"),保険料一覧!$E$29,IF(AND(F23<=39,J23="プラン1"),保険料一覧!$E$30,IF(AND(F23<=44,J23="プラン1"),保険料一覧!$E$31,IF(AND(F23<=49,J23="プラン1"),保険料一覧!$E$32,IF(AND(F23<=54,J23="プラン1"),保険料一覧!$E$33,IF(AND(F23<=59,J23="プラン1"),保険料一覧!$E$34,IF(AND(F23<=64,J23="プラン1"),保険料一覧!$E$35,IF(AND(F23<=69,J23="プラン1"),保険料一覧!$E$36,IF(AND(F23<=75,J23="プラン1"),保険料一覧!$E$37,IF(AND(F23<=4,J23="プラン2"),保険料一覧!$F$23,IF(AND(F23<=9,J23="プラン2"),保険料一覧!$F$24,IF(AND(F23<=14,J23="プラン2"),保険料一覧!$F$25,IF(AND(F23<=19,J23="プラン2"),保険料一覧!$F$26,IF(AND(F23<=24,J23="プラン2"),保険料一覧!$F$27,IF(AND(F23<=29,J23="プラン2"),保険料一覧!$F$28,IF(AND(F23<=34,J23="プラン2"),保険料一覧!$F$29,IF(AND(F23<=39,J23="プラン2"),保険料一覧!$F$30,IF(AND(F23<=44,J23="プラン2"),保険料一覧!$F$31,IF(AND(F23<=49,J23="プラン2"),保険料一覧!$F$32,IF(AND(F23<=54,J23="プラン2"),保険料一覧!$F$33,IF(AND(F23<=59,J23="プラン2"),保険料一覧!$F$34,IF(AND(F23<=64,J23="プラン2"),保険料一覧!$F$35,IF(AND(F23<=69,J23="プラン2"),保険料一覧!$F$36,IF(AND(F23<=75,J23="プラン2"),保険料一覧!$F$37,IF(AND(F23<=4,J23="プラン3"),保険料一覧!$G$23,IF(AND(F23<=9,J23="プラン3"),保険料一覧!$G$24,IF(AND(F23<=14,J23="プラン3"),保険料一覧!$G$25,IF(AND(F23<=19,J23="プラン3"),保険料一覧!$G$26,IF(AND(F23<=24,J23="プラン3"),保険料一覧!$G$27,IF(AND(F23<=29,J23="プラン3"),保険料一覧!$G$28,IF(AND(F23<=34,J23="プラン3"),保険料一覧!$G$29,IF(AND(F23<=39,J23="プラン3"),保険料一覧!$G$30,IF(AND(F23<=44,J23="プラン3"),保険料一覧!$G$31,IF(AND(F23<=49,J23="プラン3"),保険料一覧!$G$32,IF(AND(F23<=54,J23="プラン3"),保険料一覧!$G$33,IF(AND(F23<=59,J23="プラン3"),保険料一覧!$G$34,IF(AND(F23<=64,J23="プラン3"),保険料一覧!$G$35,IF(AND(F23<=69,J23="プラン3"),保険料一覧!$G$36,IF(AND(F23<=75,J23="プラン3"),保険料一覧!$G$37,0))))))))))))))))))))))))))))))))))))))))))))) -> 0
A24: 3 | F24: =DATEDIF(E24,$F$11,"Y") -> 0 | K24: =N24+O24+P24 -> 0 | N24: =IF(AND(F24<=4,H24="プラン1"),保険料一覧!$E$2,IF(AND(F24<=9,H24="プラン1"),保険料一覧!$E$3,IF(AND(F24<=14,H24="プラン1"),保険料一覧!$E$4,IF(AND(F24<=19,H24="プラン1"),保険料一覧!$E$5,IF(AND(F24<=24,H24="プラン1"),保険料一覧!$E$6,IF(AND(F24<=29,H24="プラン1"),保険料一覧!$E$7,IF(AND(F24<=34,H24="プラン1"),保険料一覧!$E$8,IF(AND(F24<=39,H24="プラン1"),保険料一覧!$E$9,IF(AND(F24<=44,H24="プラン1"),保険料一覧!$E$10,IF(AND(F24<=49,H24="プラン1"),保険料一覧!$E$11,IF(AND(F24<=54,H24="プラン1"),保険料一覧!$E$12,IF(AND(F24<=59,H24="プラン1"),保険料一覧!$E$13,IF(AND(F24<=64,H24="プラン1"),保険料一覧!$E$14,IF(AND(F24<=69,H24="プラン1"),保険料一覧!$E$15,IF(AND(F24<=75,H24="プラン1"),保険料一覧!$E$16,IF(AND(F24<=4,H24="プラン2"),保険料一覧!$F$2,IF(AND(F24<=9,H24="プラン2"),保険料一覧!$F$3,IF(AND(F24<=14,H24="プラン2"),保険料一覧!$F$4,IF(AND(F24<=19,H24="プラン2"),保険料一覧!$F$5,IF(AND(F24<=24,H24="プラン2"),保険料一覧!$F$6,IF(AND(F24<=29,H24="プラン2"),保険料一覧!$F$7,IF(AND(F24<=34,H24="プラン2"),保険料一覧!$F$8,IF(AND(F24<=39,H24="プラン2"),保険料一覧!$F$9,IF(AND(F24<=44,H24="プラン2"),保険料一覧!$F$10,IF(AND(F24<=49,H24="プラン2"),保険料一覧!$F$11,IF(AND(F24<=54,H24="プラン2"),保険料一覧!$F$12,IF(AND(F24<=59,H24="プラン2"),保険料一覧!$F$13,IF(AND(F24<=64,H24="プラン2"),保険料一覧!$F$14,IF(AND(F24<=69,H24="プラン2"),保険料一覧!$F$15,IF(AND(F24<=75,H24="プラン2"),保険料一覧!$F$16,IF(AND(F24<=4,H24="プラン3"),保険料一覧!$G$2,IF(AND(F24<=9,H24="プラン3"),保険料一覧!$G$3,IF(AND(F24<=14,H24="プラン3"),保険料一覧!$G$4,IF(AND(F24<=19,H24="プラン3"),保険料一覧!$G$5,IF(AND(F24<=24,H24="プラン3"),保険料一覧!$G$6,IF(AND(F24<=29,H24="プラン3"),保険料一覧!$G$7,IF(AND(F24<=34,H24="プラン3"),保険料一覧!$G$8,IF(AND(F24<=39,H24="プラン3"),保険料一覧!$G$9,IF(AND(F24<=44,H24="プラン3"),保険料一覧!$G$10,IF(AND(F24<=49,H24="プラン3"),保険料一覧!$G$11,IF(AND(F24<=54,H24="プラン3"),保険料一覧!$G$12,IF(AND(F24<=59,H24="プラン3"),保険料一覧!$G$13,IF(AND(F24<=64,H24="プラン3"),保険料一覧!$G$14,IF(AND(F24<=69,H24="プラン3"),保険料一覧!$G$15,IF(AND(F24<=75,H24="プラン3"),保険料一覧!$G$16,IF(AND(F24<=4,H24="プラン4"),保険料一覧!$H$2,IF(AND(F24<=9,H24="プラン3"),保険料一覧!$H$3,IF(AND(F24<=14,H24="プラン3"),保険料一覧!$H$4,IF(AND(F24<=19,H24="プラン4"),保険料一覧!$G$5,IF(AND(F24<=24,H24="プラン4"),保険料一覧!$G$6,IF(AND(F24<=29,H24="プラン4"),保険料一覧!$H$7,IF(AND(F24<=34,H24="プラン4"),保険料一覧!$H$8,IF(AND(F24<=39,H24="プラン4"),保険料一覧!$H$9,IF(AND(F24<=44,H24="プラン4"),保険料一覧!$H$10,IF(AND(F24<=49,H24="プラン4"),保険料一覧!$H$11,IF(AND(F24<=54,H24="プラン4"),保険料一覧!$H$12,IF(AND(F24<=59,H24="プラン4"),保険料一覧!$H$13,IF(AND(F24<=64,H24="プラン4"),保険料一覧!$H$14,IF(AND(F24<=69,H24="プラン4"),保険料一覧!$H$15,IF(AND(F24<=75,H24="プラン4"),保険料一覧!$H$16,0)))))))))))))))))))))))))))))))))))))))))))))))))))))))))))) -> 0 | O24: =IF(I24="なし",0,IF(I24="プラン1",保険料一覧!$E$20,IF(お申込書!I24="プラン2",保険料一覧!$F$20,IF(お申込書!I24="プラン3",保険料一覧!$G$20,0)))) -> 0 | P24: =IF(AND(F24<=4,J24="プラン1"),保険料一覧!$E$23,IF(AND(F24<=9,J24="プラン1"),保険料一覧!$E$24,IF(AND(F24<=14,J24="プラン1"),保険料一覧!$E$25,IF(AND(F24<=19,J24="プラン1"),保険料一覧!$E$26,IF(AND(F24<=24,J24="プラン1"),保険料一覧!$E$27,IF(AND(F24<=29,J24="プラン1"),保険料一覧!$E$28,IF(AND(F24<=34,J24="プラン1"),保険料一覧!$E$29,IF(AND(F24<=39,J24="プラン1"),保険料一覧!$E$30,IF(AND(F24<=44,J24="プラン1"),保険料一覧!$E$31,IF(AND(F24<=49,J24="プラン1"),保険料一覧!$E$32,IF(AND(F24<=54,J24="プラン1"),保険料一覧!$E$33,IF(AND(F24<=59,J24="プラン1"),保険料一覧!$E$34,IF(AND(F24<=64,J24="プラン1"),保険料一覧!$E$35,IF(AND(F24<=69,J24="プラン1"),保険料一覧!$E$36,IF(AND(F24<=75,J24="プラン1"),保険料一覧!$E$37,IF(AND(F24<=4,J24="プラン2"),保険料一覧!$F$23,IF(AND(F24<=9,J24="プラン2"),保険料一覧!$F$24,IF(AND(F24<=14,J24="プラン2"),保険料一覧!$F$25,IF(AND(F24<=19,J24="プラン2"),保険料一覧!$F$26,IF(AND(F24<=24,J24="プラン2"),保険料一覧!$F$27,IF(AND(F24<=29,J24="プラン2"),保険料一覧!$F$28,IF(AND(F24<=34,J24="プラン2"),保険料一覧!$F$29,IF(AND(F24<=39,J24="プラン2"),保険料一覧!$F$30,IF(AND(F24<=44,J24="プラン2"),保険料一覧!$F$31,IF(AND(F24<=49,J24="プラン2"),保険料一覧!$F$32,IF(AND(F24<=54,J24="プラン2"),保険料一覧!$F$33,IF(AND(F24<=59,J24="プラン2"),保険料一覧!$F$34,IF(AND(F24<=64,J24="プラン2"),保険料一覧!$F$35,IF(AND(F24<=69,J24="プラン2"),保険料一覧!$F$36,IF(AND(F24<=75,J24="プラン2"),保険料一覧!$F$37,IF(AND(F24<=4,J24="プラン3"),保険料一覧!$G$23,IF(AND(F24<=9,J24="プラン3"),保険料一覧!$G$24,IF(AND(F24<=14,J24="プラン3"),保険料一覧!$G$25,IF(AND(F24<=19,J24="プラン3"),保険料一覧!$G$26,IF(AND(F24<=24,J24="プラン3"),保険料一覧!$G$27,IF(AND(F24<=29,J24="プラン3"),保険料一覧!$G$28,IF(AND(F24<=34,J24="プラン3"),保険料一覧!$G$29,IF(AND(F24<=39,J24="プラン3"),保険料一覧!$G$30,IF(AND(F24<=44,J24="プラン3"),保険料一覧!$G$31,IF(AND(F24<=49,J24="プラン3"),保険料一覧!$G$32,IF(AND(F24<=54,J24="プラン3"),保険料一覧!$G$33,IF(AND(F24<=59,J24="プラン3"),保険料一覧!$G$34,IF(AND(F24<=64,J24="プラン3"),保険料一覧!$G$35,IF(AND(F24<=69,J24="プラン3"),保険料一覧!$G$36,IF(AND(F24<=75,J24="プラン3"),保険料一覧!$G$37,0))))))))))))))))))))))))))))))))))))))))))))) -> 0
A25: 4 | F25: =DATEDIF(E25,$F$11,"Y") -> 0 | K25: =N25+O25+P25 -> 0 | N25: =IF(AND(F25<=4,H25="プラン1"),保険料一覧!$E$2,IF(AND(F25<=9,H25="プラン1"),保険料一覧!$E$3,IF(AND(F25<=14,H25="プラン1"),保険料一覧!$E$4,IF(AND(F25<=19,H25="プラン1"),保険料一覧!$E$5,IF(AND(F25<=24,H25="プラン1"),保険料一覧!$E$6,IF(AND(F25<=29,H25="プラン1"),保険料一覧!$E$7,IF(AND(F25<=34,H25="プラン1"),保険料一覧!$E$8,IF(AND(F25<=39,H25="プラン1"),保険料一覧!$E$9,IF(AND(F25<=44,H25="プラン1"),保険料一覧!$E$10,IF(AND(F25<=49,H25="プラン1"),保険料一覧!$E$11,IF(AND(F25<=54,H25="プラン1"),保険料一覧!$E$12,IF(AND(F25<=59,H25="プラン1"),保険料一覧!$E$13,IF(AND(F25<=64,H25="プラン1"),保険料一覧!$E$14,IF(AND(F25<=69,H25="プラン1"),保険料一覧!$E$15,IF(AND(F25<=75,H25="プラン1"),保険料一覧!$E$16,IF(AND(F25<=4,H25="プラン2"),保険料一覧!$F$2,IF(AND(F25<=9,H25="プラン2"),保険料一覧!$F$3,IF(AND(F25<=14,H25="プラン2"),保険料一覧!$F$4,IF(AND(F25<=19,H25="プラン2"),保険料一覧!$F$5,IF(AND(F25<=24,H25="プラン2"),保険料一覧!$F$6,IF(AND(F25<=29,H25="プラン2"),保険料一覧!$F$7,IF(AND(F25<=34,H25="プラン2"),保険料一覧!$F$8,IF(AND(F25<=39,H25="プラン2"),保険料一覧!$F$9,IF(AND(F25<=44,H25="プラン2"),保険料一覧!$F$10,IF(AND(F25<=49,H25="プラン2"),保険料一覧!$F$11,IF(AND(F25<=54,H25="プラン2"),保険料一覧!$F$12,IF(AND(F25<=59,H25="プラン2"),保険料一覧!$F$13,IF(AND(F25<=64,H25="プラン2"),保険料一覧!$F$14,IF(AND(F25<=69,H25="プラン2"),保険料一覧!$F$15,IF(AND(F25<=75,H25="プラン2"),保険料一覧!$F$16,IF(AND(F25<=4,H25="プラン3"),保険料一覧!$G$2,IF(AND(F25<=9,H25="プラン3"),保険料一覧!$G$3,IF(AND(F25<=14,H25="プラン3"),保険料一覧!$G$4,IF(AND(F25<=19,H25="プラン3"),保険料一覧!$G$5,IF(AND(F25<=24,H25="プラン3"),保険料一覧!$G$6,IF(AND(F25<=29,H25="プラン3"),保険料一覧!$G$7,IF(AND(F25<=34,H25="プラン3"),保険料一覧!$G$8,IF(AND(F25<=39,H25="プラン3"),保険料一覧!$G$9,IF(AND(F25<=44,H25="プラン3"),保険料一覧!$G$10,IF(AND(F25<=49,H25="プラン3"),保険料一覧!$G$11,IF(AND(F25<=54,H25="プラン3"),保険料一覧!$G$12,IF(AND(F25<=59,H25="プラン3"),保険料一覧!$G$13,IF(AND(F25<=64,H25="プラン3"),保険料一覧!$G$14,IF(AND(F25<=69,H25="プラン3"),保険料一覧!$G$15,IF(AND(F25<=75,H25="プラン3"),保険料一覧!$G$16,IF(AND(F25<=4,H25="プラン4"),保険料一覧!$H$2,IF(AND(F25<=9,H25="プラン3"),保険料一覧!$H$3,IF(AND(F25<=14,H25="プラン3"),保険料一覧!$H$4,IF(AND(F25<=19,H25="プラン4"),保険料一覧!$G$5,IF(AND(F25<=24,H25="プラン4"),保険料一覧!$G$6,IF(AND(F25<=29,H25="プラン4"),保険料一覧!$H$7,IF(AND(F25<=34,H25="プラン4"),保険料一覧!$H$8,IF(AND(F25<=39,H25="プラン4"),保険料一覧!$H$9,IF(AND(F25<=44,H25="プラン4"),保険料一覧!$H$10,IF(AND(F25<=49,H25="プラン4"),保険料一覧!$H$11,IF(AND(F25<=54,H25="プラン4"),保険料一覧!$H$12,IF(AND(F25<=59,H25="プラン4"),保険料一覧!$H$13,IF(AND(F25<=64,H25="プラン4"),保険料一覧!$H$14,IF(AND(F25<=69,H25="プラン4"),保険料一覧!$H$15,IF(AND(F25<=75,H25="プラン4"),保険料一覧!$H$16,0)))))))))))))))))))))))))))))))))))))))))))))))))))))))))))) -> 0 | O25: =IF(I25="なし",0,IF(I25="プラン1",保険料一覧!$E$20,IF(お申込書!I25="プラン2",保険料一覧!$F$20,IF(お申込書!I25="プラン3",保険料一覧!$G$20,0)))) -> 0 | P25: =IF(AND(F25<=4,J25="プラン1"),保険料一覧!$E$23,IF(AND(F25<=9,J25="プラン1"),保険料一覧!$E$24,IF(AND(F25<=14,J25="プラン1"),保険料一覧!$E$25,IF(AND(F25<=19,J25="プラン1"),保険料一覧!$E$26,IF(AND(F25<=24,J25="プラン1"),保険料一覧!$E$27,IF(AND(F25<=29,J25="プラン1"),保険料一覧!$E$28,IF(AND(F25<=34,J25="プラン1"),保険料一覧!$E$29,IF(AND(F25<=39,J25="プラン1"),保険料一覧!$E$30,IF(AND(F25<=44,J25="プラン1"),保険料一覧!$E$31,IF(AND(F25<=49,J25="プラン1"),保険料一覧!$E$32,IF(AND(F25<=54,J25="プラン1"),保険料一覧!$E$33,IF(AND(F25<=59,J25="プラン1"),保険料一覧!$E$34,IF(AND(F25<=64,J25="プラン1"),保険料一覧!$E$35,IF(AND(F25<=69,J25="プラン1"),保険料一覧!$E$36,IF(AND(F25<=75,J25="プラン1"),保険料一覧!$E$37,IF(AND(F25<=4,J25="プラン2"),保険料一覧!$F$23,IF(AND(F25<=9,J25="プラン2"),保険料一覧!$F$24,IF(AND(F25<=14,J25="プラン2"),保険料一覧!$F$25,IF(AND(F25<=19,J25="プラン2"),保険料一覧!$F$26,IF(AND(F25<=24,J25="プラン2"),保険料一覧!$F$27,IF(AND(F25<=29,J25="プラン2"),保険料一覧!$F$28,IF(AND(F25<=34,J25="プラン2"),保険料一覧!$F$29,IF(AND(F25<=39,J25="プラン2"),保険料一覧!$F$30,IF(AND(F25<=44,J25="プラン2"),保険料一覧!$F$31,IF(AND(F25<=49,J25="プラン2"),保険料一覧!$F$32,IF(AND(F25<=54,J25="プラン2"),保険料一覧!$F$33,IF(AND(F25<=59,J25="プラン2"),保険料一覧!$F$34,IF(AND(F25<=64,J25="プラン2"),保険料一覧!$F$35,IF(AND(F25<=69,J25="プラン2"),保険料一覧!$F$36,IF(AND(F25<=75,J25="プラン2"),保険料一覧!$F$37,IF(AND(F25<=4,J25="プラン3"),保険料一覧!$G$23,IF(AND(F25<=9,J25="プラン3"),保険料一覧!$G$24,IF(AND(F25<=14,J25="プラン3"),保険料一覧!$G$25,IF(AND(F25<=19,J25="プラン3"),保険料一覧!$G$26,IF(AND(F25<=24,J25="プラン3"),保険料一覧!$G$27,IF(AND(F25<=29,J25="プラン3"),保険料一覧!$G$28,IF(AND(F25<=34,J25="プラン3"),保険料一覧!$G$29,IF(AND(F25<=39,J25="プラン3"),保険料一覧!$G$30,IF(AND(F25<=44,J25="プラン3"),保険料一覧!$G$31,IF(AND(F25<=49,J25="プラン3"),保険料一覧!$G$32,IF(AND(F25<=54,J25="プラン3"),保険料一覧!$G$33,IF(AND(F25<=59,J25="プラン3"),保険料一覧!$G$34,IF(AND(F25<=64,J25="プラン3"),保険料一覧!$G$35,IF(AND(F25<=69,J25="プラン3"),保険料一覧!$G$36,IF(AND(F25<=75,J25="プラン3"),保険料一覧!$G$37,0))))))))))))))))))))))))))))))))))))))))))))) -> 0
A26: 5 | F26: =DATEDIF(E26,$F$11,"Y") -> 0 | K26: =N26+O26+P26 -> 0 | N26: =IF(AND(F26<=4,H26="プラン1"),保険料一覧!$E$2,IF(AND(F26<=9,H26="プラン1"),保険料一覧!$E$3,IF(AND(F26<=14,H26="プラン1"),保険料一覧!$E$4,IF(AND(F26<=19,H26="プラン1"),保険料一覧!$E$5,IF(AND(F26<=24,H26="プラン1"),保険料一覧!$E$6,IF(AND(F26<=29,H26="プラン1"),保険料一覧!$E$7,IF(AND(F26<=34,H26="プラン1"),保険料一覧!$E$8,IF(AND(F26<=39,H26="プラン1"),保険料一覧!$E$9,IF(AND(F26<=44,H26="プラン1"),保険料一覧!$E$10,IF(AND(F26<=49,H26="プラン1"),保険料一覧!$E$11,IF(AND(F26<=54,H26="プラン1"),保険料一覧!$E$12,IF(AND(F26<=59,H26="プラン1"),保険料一覧!$E$13,IF(AND(F26<=64,H26="プラン1"),保険料一覧!$E$14,IF(AND(F26<=69,H26="プラン1"),保険料一覧!$E$15,IF(AND(F26<=75,H26="プラン1"),保険料一覧!$E$16,IF(AND(F26<=4,H26="プラン2"),保険料一覧!$F$2,IF(AND(F26<=9,H26="プラン2"),保険料一覧!$F$3,IF(AND(F26<=14,H26="プラン2"),保険料一覧!$F$4,IF(AND(F26<=19,H26="プラン2"),保険料一覧!$F$5,IF(AND(F26<=24,H26="プラン2"),保険料一覧!$F$6,IF(AND(F26<=29,H26="プラン2"),保険料一覧!$F$7,IF(AND(F26<=34,H26="プラン2"),保険料一覧!$F$8,IF(AND(F26<=39,H26="プラン2"),保険料一覧!$F$9,IF(AND(F26<=44,H26="プラン2"),保険料一覧!$F$10,IF(AND(F26<=49,H26="プラン2"),保険料一覧!$F$11,IF(AND(F26<=54,H26="プラン2"),保険料一覧!$F$12,IF(AND(F26<=59,H26="プラン2"),保険料一覧!$F$13,IF(AND(F26<=64,H26="プラン2"),保険料一覧!$F$14,IF(AND(F26<=69,H26="プラン2"),保険料一覧!$F$15,IF(AND(F26<=75,H26="プラン2"),保険料一覧!$F$16,IF(AND(F26<=4,H26="プラン3"),保険料一覧!$G$2,IF(AND(F26<=9,H26="プラン3"),保険料一覧!$G$3,IF(AND(F26<=14,H26="プラン3"),保険料一覧!$G$4,IF(AND(F26<=19,H26="プラン3"),保険料一覧!$G$5,IF(AND(F26<=24,H26="プラン3"),保険料一覧!$G$6,IF(AND(F26<=29,H26="プラン3"),保険料一覧!$G$7,IF(AND(F26<=34,H26="プラン3"),保険料一覧!$G$8,IF(AND(F26<=39,H26="プラン3"),保険料一覧!$G$9,IF(AND(F26<=44,H26="プラン3"),保険料一覧!$G$10,IF(AND(F26<=49,H26="プラン3"),保険料一覧!$G$11,IF(AND(F26<=54,H26="プラン3"),保険料一覧!$G$12,IF(AND(F26<=59,H26="プラン3"),保険料一覧!$G$13,IF(AND(F26<=64,H26="プラン3"),保険料一覧!$G$14,IF(AND(F26<=69,H26="プラン3"),保険料一覧!$G$15,IF(AND(F26<=75,H26="プラン3"),保険料一覧!$G$16,IF(AND(F26<=4,H26="プラン4"),保険料一覧!$H$2,IF(AND(F26<=9,H26="プラン3"),保険料一覧!$H$3,IF(AND(F26<=14,H26="プラン3"),保険料一覧!$H$4,IF(AND(F26<=19,H26="プラン4"),保険料一覧!$G$5,IF(AND(F26<=24,H26="プラン4"),保険料一覧!$G$6,IF(AND(F26<=29,H26="プラン4"),保険料一覧!$H$7,IF(AND(F26<=34,H26="プラン4"),保険料一覧!$H$8,IF(AND(F26<=39,H26="プラン4"),保険料一覧!$H$9,IF(AND(F26<=44,H26="プラン4"),保険料一覧!$H$10,IF(AND(F26<=49,H26="プラン4"),保険料一覧!$H$11,IF(AND(F26<=54,H26="プラン4"),保険料一覧!$H$12,IF(AND(F26<=59,H26="プラン4"),保険料一覧!$H$13,IF(AND(F26<=64,H26="プラン4"),保険料一覧!$H$14,IF(AND(F26<=69,H26="プラン4"),保険料一覧!$H$15,IF(AND(F26<=75,H26="プラン4"),保険料一覧!$H$16,0)))))))))))))))))))))))))))))))))))))))))))))))))))))))))))) -> 0 | O26: =IF(I26="なし",0,IF(I26="プラン1",保険料一覧!$E$20,IF(お申込書!I26="プラン2",保険料一覧!$F$20,IF(お申込書!I26="プラン3",保険料一覧!$G$20,0)))) -> 0 | P26: =IF(AND(F26<=4,J26="プラン1"),保険料一覧!$E$23,IF(AND(F26<=9,J26="プラン1"),保険料一覧!$E$24,IF(AND(F26<=14,J26="プラン1"),保険料一覧!$E$25,IF(AND(F26<=19,J26="プラン1"),保険料一覧!$E$26,IF(AND(F26<=24,J26="プラン1"),保険料一覧!$E$27,IF(AND(F26<=29,J26="プラン1"),保険料一覧!$E$28,IF(AND(F26<=34,J26="プラン1"),保険料一覧!$E$29,IF(AND(F26<=39,J26="プラン1"),保険料一覧!$E$30,IF(AND(F26<=44,J26="プラン1"),保険料一覧!$E$31,IF(AND(F26<=49,J26="プラン1"),保険料一覧!$E$32,IF(AND(F26<=54,J26="プラン1"),保険料一覧!$E$33,IF(AND(F26<=59,J26="プラン1"),保険料一覧!$E$34,IF(AND(F26<=64,J26="プラン1"),保険料一覧!$E$35,IF(AND(F26<=69,J26="プラン1"),保険料一覧!$E$36,IF(AND(F26<=75,J26="プラン1"),保険料一覧!$E$37,IF(AND(F26<=4,J26="プラン2"),保険料一覧!$F$23,IF(AND(F26<=9,J26="プラン2"),保険料一覧!$F$24,IF(AND(F26<=14,J26="プラン2"),保険料一覧!$F$25,IF(AND(F26<=19,J26="プラン2"),保険料一覧!$F$26,IF(AND(F26<=24,J26="プラン2"),保険料一覧!$F$27,IF(AND(F26<=29,J26="プラン2"),保険料一覧!$F$28,IF(AND(F26<=34,J26="プラン2"),保険料一覧!$F$29,IF(AND(F26<=39,J26="プラン2"),保険料一覧!$F$30,IF(AND(F26<=44,J26="プラン2"),保険料一覧!$F$31,IF(AND(F26<=49,J26="プラン2"),保険料一覧!$F$32,IF(AND(F26<=54,J26="プラン2"),保険料一覧!$F$33,IF(AND(F26<=59,J26="プラン2"),保険料一覧!$F$34,IF(AND(F26<=64,J26="プラン2"),保険料一覧!$F$35,IF(AND(F26<=69,J26="プラン2"),保険料一覧!$F$36,IF(AND(F26<=75,J26="プラン2"),保険料一覧!$F$37,IF(AND(F26<=4,J26="プラン3"),保険料一覧!$G$23,IF(AND(F26<=9,J26="プラン3"),保険料一覧!$G$24,IF(AND(F26<=14,J26="プラン3"),保険料一覧!$G$25,IF(AND(F26<=19,J26="プラン3"),保険料一覧!$G$26,IF(AND(F26<=24,J26="プラン3"),保険料一覧!$G$27,IF(AND(F26<=29,J26="プラン3"),保険料一覧!$G$28,IF(AND(F26<=34,J26="プラン3"),保険料一覧!$G$29,IF(AND(F26<=39,J26="プラン3"),保険料一覧!$G$30,IF(AND(F26<=44,J26="プラン3"),保険料一覧!$G$31,IF(AND(F26<=49,J26="プラン3"),保険料一覧!$G$32,IF(AND(F26<=54,J26="プラン3"),保険料一覧!$G$33,IF(AND(F26<=59,J26="プラン3"),保険料一覧!$G$34,IF(AND(F26<=64,J26="プラン3"),保険料一覧!$G$35,IF(AND(F26<=69,J26="プラン3"),保険料一覧!$G$36,IF(AND(F26<=75,J26="プラン3"),保険料一覧!$G$37,0))))))))))))))))))))))))))))))))))))))))))))) -> 0
A27: 6 | F27: =DATEDIF(E27,$F$11,"Y") -> 0 | K27: =N27+O27+P27 -> 0 | N27: =IF(AND(F27<=4,H27="プラン1"),保険料一覧!$E$2,IF(AND(F27<=9,H27="プラン1"),保険料一覧!$E$3,IF(AND(F27<=14,H27="プラン1"),保険料一覧!$E$4,IF(AND(F27<=19,H27="プラン1"),保険料一覧!$E$5,IF(AND(F27<=24,H27="プラン1"),保険料一覧!$E$6,IF(AND(F27<=29,H27="プラン1"),保険料一覧!$E$7,IF(AND(F27<=34,H27="プラン1"),保険料一覧!$E$8,IF(AND(F27<=39,H27="プラン1"),保険料一覧!$E$9,IF(AND(F27<=44,H27="プラン1"),保険料一覧!$E$10,IF(AND(F27<=49,H27="プラン1"),保険料一覧!$E$11,IF(AND(F27<=54,H27="プラン1"),保険料一覧!$E$12,IF(AND(F27<=59,H27="プラン1"),保険料一覧!$E$13,IF(AND(F27<=64,H27="プラン1"),保険料一覧!$E$14,IF(AND(F27<=69,H27="プラン1"),保険料一覧!$E$15,IF(AND(F27<=75,H27="プラン1"),保険料一覧!$E$16,IF(AND(F27<=4,H27="プラン2"),保険料一覧!$F$2,IF(AND(F27<=9,H27="プラン2"),保険料一覧!$F$3,IF(AND(F27<=14,H27="プラン2"),保険料一覧!$F$4,IF(AND(F27<=19,H27="プラン2"),保険料一覧!$F$5,IF(AND(F27<=24,H27="プラン2"),保険料一覧!$F$6,IF(AND(F27<=29,H27="プラン2"),保険料一覧!$F$7,IF(AND(F27<=34,H27="プラン2"),保険料一覧!$F$8,IF(AND(F27<=39,H27="プラン2"),保険料一覧!$F$9,IF(AND(F27<=44,H27="プラン2"),保険料一覧!$F$10,IF(AND(F27<=49,H27="プラン2"),保険料一覧!$F$11,IF(AND(F27<=54,H27="プラン2"),保険料一覧!$F$12,IF(AND(F27<=59,H27="プラン2"),保険料一覧!$F$13,IF(AND(F27<=64,H27="プラン2"),保険料一覧!$F$14,IF(AND(F27<=69,H27="プラン2"),保険料一覧!$F$15,IF(AND(F27<=75,H27="プラン2"),保険料一覧!$F$16,IF(AND(F27<=4,H27="プラン3"),保険料一覧!$G$2,IF(AND(F27<=9,H27="プラン3"),保険料一覧!$G$3,IF(AND(F27<=14,H27="プラン3"),保険料一覧!$G$4,IF(AND(F27<=19,H27="プラン3"),保険料一覧!$G$5,IF(AND(F27<=24,H27="プラン3"),保険料一覧!$G$6,IF(AND(F27<=29,H27="プラン3"),保険料一覧!$G$7,IF(AND(F27<=34,H27="プラン3"),保険料一覧!$G$8,IF(AND(F27<=39,H27="プラン3"),保険料一覧!$G$9,IF(AND(F27<=44,H27="プラン3"),保険料一覧!$G$10,IF(AND(F27<=49,H27="プラン3"),保険料一覧!$G$11,IF(AND(F27<=54,H27="プラン3"),保険料一覧!$G$12,IF(AND(F27<=59,H27="プラン3"),保険料一覧!$G$13,IF(AND(F27<=64,H27="プラン3"),保険料一覧!$G$14,IF(AND(F27<=69,H27="プラン3"),保険料一覧!$G$15,IF(AND(F27<=75,H27="プラン3"),保険料一覧!$G$16,IF(AND(F27<=4,H27="プラン4"),保険料一覧!$H$2,IF(AND(F27<=9,H27="プラン3"),保険料一覧!$H$3,IF(AND(F27<=14,H27="プラン3"),保険料一覧!$H$4,IF(AND(F27<=19,H27="プラン4"),保険料一覧!$G$5,IF(AND(F27<=24,H27="プラン4"),保険料一覧!$G$6,IF(AND(F27<=29,H27="プラン4"),保険料一覧!$H$7,IF(AND(F27<=34,H27="プラン4"),保険料一覧!$H$8,IF(AND(F27<=39,H27="プラン4"),保険料一覧!$H$9,IF(AND(F27<=44,H27="プラン4"),保険料一覧!$H$10,IF(AND(F27<=49,H27="プラン4"),保険料一覧!$H$11,IF(AND(F27<=54,H27="プラン4"),保険料一覧!$H$12,IF(AND(F27<=59,H27="プラン4"),保険料一覧!$H$13,IF(AND(F27<=64,H27="プラン4"),保険料一覧!$H$14,IF(AND(F27<=69,H27="プラン4"),保険料一覧!$H$15,IF(AND(F27<=75,H27="プラン4"),保険料一覧!$H$16,0)))))))))))))))))))))))))))))))))))))))))))))))))))))))))))) -> 0 | O27: =IF(I27="なし",0,IF(I27="プラン1",保険料一覧!$E$20,IF(お申込書!I27="プラン2",保険料一覧!$F$20,IF(お申込書!I27="プラン3",保険料一覧!$G$20,0)))) -> 0 | P27: =IF(AND(F27<=4,J27="プラン1"),保険料一覧!$E$23,IF(AND(F27<=9,J27="プラン1"),保険料一覧!$E$24,IF(AND(F27<=14,J27="プラン1"),保険料一覧!$E$25,IF(AND(F27<=19,J27="プラン1"),保険料一覧!$E$26,IF(AND(F27<=24,J27="プラン1"),保険料一覧!$E$27,IF(AND(F27<=29,J27="プラン1"),保険料一覧!$E$28,IF(AND(F27<=34,J27="プラン1"),保険料一覧!$E$29,IF(AND(F27<=39,J27="プラン1"),保険料一覧!$E$30,IF(AND(F27<=44,J27="プラン1"),保険料一覧!$E$31,IF(AND(F27<=49,J27="プラン1"),保険料一覧!$E$32,IF(AND(F27<=54,J27="プラン1"),保険料一覧!$E$33,IF(AND(F27<=59,J27="プラン1"),保険料一覧!$E$34,IF(AND(F27<=64,J27="プラン1"),保険料一覧!$E$35,IF(AND(F27<=69,J27="プラン1"),保険料一覧!$E$36,IF(AND(F27<=75,J27="プラン1"),保険料一覧!$E$37,IF(AND(F27<=4,J27="プラン2"),保険料一覧!$F$23,IF(AND(F27<=9,J27="プラン2"),保険料一覧!$F$24,IF(AND(F27<=14,J27="プラン2"),保険料一覧!$F$25,IF(AND(F27<=19,J27="プラン2"),保険料一覧!$F$26,IF(AND(F27<=24,J27="プラン2"),保険料一覧!$F$27,IF(AND(F27<=29,J27="プラン2"),保険料一覧!$F$28,IF(AND(F27<=34,J27="プラン2"),保険料一覧!$F$29,IF(AND(F27<=39,J27="プラン2"),保険料一覧!$F$30,IF(AND(F27<=44,J27="プラン2"),保険料一覧!$F$31,IF(AND(F27<=49,J27="プラン2"),保険料一覧!$F$32,IF(AND(F27<=54,J27="プラン2"),保険料一覧!$F$33,IF(AND(F27<=59,J27="プラン2"),保険料一覧!$F$34,IF(AND(F27<=64,J27="プラン2"),保険料一覧!$F$35,IF(AND(F27<=69,J27="プラン2"),保険料一覧!$F$36,IF(AND(F27<=75,J27="プラン2"),保険料一覧!$F$37,IF(AND(F27<=4,J27="プラン3"),保険料一覧!$G$23,IF(AND(F27<=9,J27="プラン3"),保険料一覧!$G$24,IF(AND(F27<=14,J27="プラン3"),保険料一覧!$G$25,IF(AND(F27<=19,J27="プラン3"),保険料一覧!$G$26,IF(AND(F27<=24,J27="プラン3"),保険料一覧!$G$27,IF(AND(F27<=29,J27="プラン3"),保険料一覧!$G$28,IF(AND(F27<=34,J27="プラン3"),保険料一覧!$G$29,IF(AND(F27<=39,J27="プラン3"),保険料一覧!$G$30,IF(AND(F27<=44,J27="プラン3"),保険料一覧!$G$31,IF(AND(F27<=49,J27="プラン3"),保険料一覧!$G$32,IF(AND(F27<=54,J27="プラン3"),保険料一覧!$G$33,IF(AND(F27<=59,J27="プラン3"),保険料一覧!$G$34,IF(AND(F27<=64,J27="プラン3"),保険料一覧!$G$35,IF(AND(F27<=69,J27="プラン3"),保険料一覧!$G$36,IF(AND(F27<=75,J27="プラン3"),保険料一覧!$G$37,0))))))))))))))))))))))))))))))))))))))))))))) -> 0
A28: 7 | F28: =DATEDIF(E28,$F$11,"Y") -> 0 | K28: =N28+O28+P28 -> 0 | N28: =IF(AND(F28<=4,H28="プラン1"),保険料一覧!$E$2,IF(AND(F28<=9,H28="プラン1"),保険料一覧!$E$3,IF(AND(F28<=14,H28="プラン1"),保険料一覧!$E$4,IF(AND(F28<=19,H28="プラン1"),保険料一覧!$E$5,IF(AND(F28<=24,H28="プラン1"),保険料一覧!$E$6,IF(AND(F28<=29,H28="プラン1"),保険料一覧!$E$7,IF(AND(F28<=34,H28="プラン1"),保険料一覧!$E$8,IF(AND(F28<=39,H28="プラン1"),保険料一覧!$E$9,IF(AND(F28<=44,H28="プラン1"),保険料一覧!$E$10,IF(AND(F28<=49,H28="プラン1"),保険料一覧!$E$11,IF(AND(F28<=54,H28="プラン1"),保険料一覧!$E$12,IF(AND(F28<=59,H28="プラン1"),保険料一覧!$E$13,IF(AND(F28<=64,H28="プラン1"),保険料一覧!$E$14,IF(AND(F28<=69,H28="プラン1"),保険料一覧!$E$15,IF(AND(F28<=75,H28="プラン1"),保険料一覧!$E$16,IF(AND(F28<=4,H28="プラン2"),保険料一覧!$F$2,IF(AND(F28<=9,H28="プラン2"),保険料一覧!$F$3,IF(AND(F28<=14,H28="プラン2"),保険料一覧!$F$4,IF(AND(F28<=19,H28="プラン2"),保険料一覧!$F$5,IF(AND(F28<=24,H28="プラン2"),保険料一覧!$F$6,IF(AND(F28<=29,H28="プラン2"),保険料一覧!$F$7,IF(AND(F28<=34,H28="プラン2"),保険料一覧!$F$8,IF(AND(F28<=39,H28="プラン2"),保険料一覧!$F$9,IF(AND(F28<=44,H28="プラン2"),保険料一覧!$F$10,IF(AND(F28<=49,H28="プラン2"),保険料一覧!$F$11,IF(AND(F28<=54,H28="プラン2"),保険料一覧!$F$12,IF(AND(F28<=59,H28="プラン2"),保険料一覧!$F$13,IF(AND(F28<=64,H28="プラン2"),保険料一覧!$F$14,IF(AND(F28<=69,H28="プラン2"),保険料一覧!$F$15,IF(AND(F28<=75,H28="プラン2"),保険料一覧!$F$16,IF(AND(F28<=4,H28="プラン3"),保険料一覧!$G$2,IF(AND(F28<=9,H28="プラン3"),保険料一覧!$G$3,IF(AND(F28<=14,H28="プラン3"),保険料一覧!$G$4,IF(AND(F28<=19,H28="プラン3"),保険料一覧!$G$5,IF(AND(F28<=24,H28="プラン3"),保険料一覧!$G$6,IF(AND(F28<=29,H28="プラン3"),保険料一覧!$G$7,IF(AND(F28<=34,H28="プラン3"),保険料一覧!$G$8,IF(AND(F28<=39,H28="プラン3"),保険料一覧!$G$9,IF(AND(F28<=44,H28="プラン3"),保険料一覧!$G$10,IF(AND(F28<=49,H28="プラン3"),保険料一覧!$G$11,IF(AND(F28<=54,H28="プラン3"),保険料一覧!$G$12,IF(AND(F28<=59,H28="プラン3"),保険料一覧!$G$13,IF(AND(F28<=64,H28="プラン3"),保険料一覧!$G$14,IF(AND(F28<=69,H28="プラン3"),保険料一覧!$G$15,IF(AND(F28<=75,H28="プラン3"),保険料一覧!$G$16,IF(AND(F28<=4,H28="プラン4"),保険料一覧!$H$2,IF(AND(F28<=9,H28="プラン3"),保険料一覧!$H$3,IF(AND(F28<=14,H28="プラン3"),保険料一覧!$H$4,IF(AND(F28<=19,H28="プラン4"),保険料一覧!$G$5,IF(AND(F28<=24,H28="プラン4"),保険料一覧!$G$6,IF(AND(F28<=29,H28="プラン4"),保険料一覧!$H$7,IF(AND(F28<=34,H28="プラン4"),保険料一覧!$H$8,IF(AND(F28<=39,H28="プラン4"),保険料一覧!$H$9,IF(AND(F28<=44,H28="プラン4"),保険料一覧!$H$10,IF(AND(F28<=49,H28="プラン4"),保険料一覧!$H$11,IF(AND(F28<=54,H28="プラン4"),保険料一覧!$H$12,IF(AND(F28<=59,H28="プラン4"),保険料一覧!$H$13,IF(AND(F28<=64,H28="プラン4"),保険料一覧!$H$14,IF(AND(F28<=69,H28="プラン4"),保険料一覧!$H$15,IF(AND(F28<=75,H28="プラン4"),保険料一覧!$H$16,0)))))))))))))))))))))))))))))))))))))))))))))))))))))))))))) -> 0 | O28: =IF(I28="なし",0,IF(I28="プラン1",保険料一覧!$E$20,IF(お申込書!I28="プラン2",保険料一覧!$F$20,IF(お申込書!I28="プラン3",保険料一覧!$G$20,0)))) -> 0 | P28: =IF(AND(F28<=4,J28="プラン1"),保険料一覧!$E$23,IF(AND(F28<=9,J28="プラン1"),保険料一覧!$E$24,IF(AND(F28<=14,J28="プラン1"),保険料一覧!$E$25,IF(AND(F28<=19,J28="プラン1"),保険料一覧!$E$26,IF(AND(F28<=24,J28="プラン1"),保険料一覧!$E$27,IF(AND(F28<=29,J28="プラン1"),保険料一覧!$E$28,IF(AND(F28<=34,J28="プラン1"),保険料一覧!$E$29,IF(AND(F28<=39,J28="プラン1"),保険料一覧!$E$30,IF(AND(F28<=44,J28="プラン1"),保険料一覧!$E$31,IF(AND(F28<=49,J28="プラン1"),保険料一覧!$E$32,IF(AND(F28<=54,J28="プラン1"),保険料一覧!$E$33,IF(AND(F28<=59,J28="プラン1"),保険料一覧!$E$34,IF(AND(F28<=64,J28="プラン1"),保険料一覧!$E$35,IF(AND(F28<=69,J28="プラン1"),保険料一覧!$E$36,IF(AND(F28<=75,J28="プラン1"),保険料一覧!$E$37,IF(AND(F28<=4,J28="プラン2"),保険料一覧!$F$23,IF(AND(F28<=9,J28="プラン2"),保険料一覧!$F$24,IF(AND(F28<=14,J28="プラン2"),保険料一覧!$F$25,IF(AND(F28<=19,J28="プラン2"),保険料一覧!$F$26,IF(AND(F28<=24,J28="プラン2"),保険料一覧!$F$27,IF(AND(F28<=29,J28="プラン2"),保険料一覧!$F$28,IF(AND(F28<=34,J28="プラン2"),保険料一覧!$F$29,IF(AND(F28<=39,J28="プラン2"),保険料一覧!$F$30,IF(AND(F28<=44,J28="プラン2"),保険料一覧!$F$31,IF(AND(F28<=49,J28="プラン2"),保険料一覧!$F$32,IF(AND(F28<=54,J28="プラン2"),保険料一覧!$F$33,IF(AND(F28<=59,J28="プラン2"),保険料一覧!$F$34,IF(AND(F28<=64,J28="プラン2"),保険料一覧!$F$35,IF(AND(F28<=69,J28="プラン2"),保険料一覧!$F$36,IF(AND(F28<=75,J28="プラン2"),保険料一覧!$F$37,IF(AND(F28<=4,J28="プラン3"),保険料一覧!$G$23,IF(AND(F28<=9,J28="プラン3"),保険料一覧!$G$24,IF(AND(F28<=14,J28="プラン3"),保険料一覧!$G$25,IF(AND(F28<=19,J28="プラン3"),保険料一覧!$G$26,IF(AND(F28<=24,J28="プラン3"),保険料一覧!$G$27,IF(AND(F28<=29,J28="プラン3"),保険料一覧!$G$28,IF(AND(F28<=34,J28="プラン3"),保険料一覧!$G$29,IF(AND(F28<=39,J28="プラン3"),保険料一覧!$G$30,IF(AND(F28<=44,J28="プラン3"),保険料一覧!$G$31,IF(AND(F28<=49,J28="プラン3"),保険料一覧!$G$32,IF(AND(F28<=54,J28="プラン3"),保険料一覧!$G$33,IF(AND(F28<=59,J28="プラン3"),保険料一覧!$G$34,IF(AND(F28<=64,J28="プラン3"),保険料一覧!$G$35,IF(AND(F28<=69,J28="プラン3"),保険料一覧!$G$36,IF(AND(F28<=75,J28="プラン3"),保険料一覧!$G$37,0))))))))))))))))))))))))))))))))))))))))))))) -> 0
A29: 8 | F29: =DATEDIF(E29,$F$11,"Y") -> 0 | K29: =N29+O29+P29 -> 0 | N29: =IF(AND(F29<=4,H29="プラン1"),保険料一覧!$E$2,IF(AND(F29<=9,H29="プラン1"),保険料一覧!$E$3,IF(AND(F29<=14,H29="プラン1"),保険料一覧!$E$4,IF(AND(F29<=19,H29="プラン1"),保険料一覧!$E$5,IF(AND(F29<=24,H29="プラン1"),保険料一覧!$E$6,IF(AND(F29<=29,H29="プラン1"),保険料一覧!$E$7,IF(AND(F29<=34,H29="プラン1"),保険料一覧!$E$8,IF(AND(F29<=39,H29="プラン1"),保険料一覧!$E$9,IF(AND(F29<=44,H29="プラン1"),保険料一覧!$E$10,IF(AND(F29<=49,H29="プラン1"),保険料一覧!$E$11,IF(AND(F29<=54,H29="プラン1"),保険料一覧!$E$12,IF(AND(F29<=59,H29="プラン1"),保険料一覧!$E$13,IF(AND(F29<=64,H29="プラン1"),保険料一覧!$E$14,IF(AND(F29<=69,H29="プラン1"),保険料一覧!$E$15,IF(AND(F29<=75,H29="プラン1"),保険料一覧!$E$16,IF(AND(F29<=4,H29="プラン2"),保険料一覧!$F$2,IF(AND(F29<=9,H29="プラン2"),保険料一覧!$F$3,IF(AND(F29<=14,H29="プラン2"),保険料一覧!$F$4,IF(AND(F29<=19,H29="プラン2"),保険料一覧!$F$5,IF(AND(F29<=24,H29="プラン2"),保険料一覧!$F$6,IF(AND(F29<=29,H29="プラン2"),保険料一覧!$F$7,IF(AND(F29<=34,H29="プラン2"),保険料一覧!$F$8,IF(AND(F29<=39,H29="プラン2"),保険料一覧!$F$9,IF(AND(F29<=44,H29="プラン2"),保険料一覧!$F$10,IF(AND(F29<=49,H29="プラン2"),保険料一覧!$F$11,IF(AND(F29<=54,H29="プラン2"),保険料一覧!$F$12,IF(AND(F29<=59,H29="プラン2"),保険料一覧!$F$13,IF(AND(F29<=64,H29="プラン2"),保険料一覧!$F$14,IF(AND(F29<=69,H29="プラン2"),保険料一覧!$F$15,IF(AND(F29<=75,H29="プラン2"),保険料一覧!$F$16,IF(AND(F29<=4,H29="プラン3"),保険料一覧!$G$2,IF(AND(F29<=9,H29="プラン3"),保険料一覧!$G$3,IF(AND(F29<=14,H29="プラン3"),保険料一覧!$G$4,IF(AND(F29<=19,H29="プラン3"),保険料一覧!$G$5,IF(AND(F29<=24,H29="プラン3"),保険料一覧!$G$6,IF(AND(F29<=29,H29="プラン3"),保険料一覧!$G$7,IF(AND(F29<=34,H29="プラン3"),保険料一覧!$G$8,IF(AND(F29<=39,H29="プラン3"),保険料一覧!$G$9,IF(AND(F29<=44,H29="プラン3"),保険料一覧!$G$10,IF(AND(F29<=49,H29="プラン3"),保険料一覧!$G$11,IF(AND(F29<=54,H29="プラン3"),保険料一覧!$G$12,IF(AND(F29<=59,H29="プラン3"),保険料一覧!$G$13,IF(AND(F29<=64,H29="プラン3"),保険料一覧!$G$14,IF(AND(F29<=69,H29="プラン3"),保険料一覧!$G$15,IF(AND(F29<=75,H29="プラン3"),保険料一覧!$G$16,IF(AND(F29<=4,H29="プラン4"),保険料一覧!$H$2,IF(AND(F29<=9,H29="プラン3"),保険料一覧!$H$3,IF(AND(F29<=14,H29="プラン3"),保険料一覧!$H$4,IF(AND(F29<=19,H29="プラン4"),保険料一覧!$G$5,IF(AND(F29<=24,H29="プラン4"),保険料一覧!$G$6,IF(AND(F29<=29,H29="プラン4"),保険料一覧!$H$7,IF(AND(F29<=34,H29="プラン4"),保険料一覧!$H$8,IF(AND(F29<=39,H29="プラン4"),保険料一覧!$H$9,IF(AND(F29<=44,H29="プラン4"),保険料一覧!$H$10,IF(AND(F29<=49,H29="プラン4"),保険料一覧!$H$11,IF(AND(F29<=54,H29="プラン4"),保険料一覧!$H$12,IF(AND(F29<=59,H29="プラン4"),保険料一覧!$H$13,IF(AND(F29<=64,H29="プラン4"),保険料一覧!$H$14,IF(AND(F29<=69,H29="プラン4"),保険料一覧!$H$15,IF(AND(F29<=75,H29="プラン4"),保険料一覧!$H$16,0)))))))))))))))))))))))))))))))))))))))))))))))))))))))))))) -> 0 | O29: =IF(I29="なし",0,IF(I29="プラン1",保険料一覧!$E$20,IF(お申込書!I29="プラン2",保険料一覧!$F$20,IF(お申込書!I29="プラン3",保険料一覧!$G$20,0)))) -> 0 | P29: =IF(AND(F29<=4,J29="プラン1"),保険料一覧!$E$23,IF(AND(F29<=9,J29="プラン1"),保険料一覧!$E$24,IF(AND(F29<=14,J29="プラン1"),保険料一覧!$E$25,IF(AND(F29<=19,J29="プラン1"),保険料一覧!$E$26,IF(AND(F29<=24,J29="プラン1"),保険料一覧!$E$27,IF(AND(F29<=29,J29="プラン1"),保険料一覧!$E$28,IF(AND(F29<=34,J29="プラン1"),保険料一覧!$E$29,IF(AND(F29<=39,J29="プラン1"),保険料一覧!$E$30,IF(AND(F29<=44,J29="プラン1"),保険料一覧!$E$31,IF(AND(F29<=49,J29="プラン1"),保険料一覧!$E$32,IF(AND(F29<=54,J29="プラン1"),保険料一覧!$E$33,IF(AND(F29<=59,J29="プラン1"),保険料一覧!$E$34,IF(AND(F29<=64,J29="プラン1"),保険料一覧!$E$35,IF(AND(F29<=69,J29="プラン1"),保険料一覧!$E$36,IF(AND(F29<=75,J29="プラン1"),保険料一覧!$E$37,IF(AND(F29<=4,J29="プラン2"),保険料一覧!$F$23,IF(AND(F29<=9,J29="プラン2"),保険料一覧!$F$24,IF(AND(F29<=14,J29="プラン2"),保険料一覧!$F$25,IF(AND(F29<=19,J29="プラン2"),保険料一覧!$F$26,IF(AND(F29<=24,J29="プラン2"),保険料一覧!$F$27,IF(AND(F29<=29,J29="プラン2"),保険料一覧!$F$28,IF(AND(F29<=34,J29="プラン2"),保険料一覧!$F$29,IF(AND(F29<=39,J29="プラン2"),保険料一覧!$F$30,IF(AND(F29<=44,J29="プラン2"),保険料一覧!$F$31,IF(AND(F29<=49,J29="プラン2"),保険料一覧!$F$32,IF(AND(F29<=54,J29="プラン2"),保険料一覧!$F$33,IF(AND(F29<=59,J29="プラン2"),保険料一覧!$F$34,IF(AND(F29<=64,J29="プラン2"),保険料一覧!$F$35,IF(AND(F29<=69,J29="プラン2"),保険料一覧!$F$36,IF(AND(F29<=75,J29="プラン2"),保険料一覧!$F$37,IF(AND(F29<=4,J29="プラン3"),保険料一覧!$G$23,IF(AND(F29<=9,J29="プラン3"),保険料一覧!$G$24,IF(AND(F29<=14,J29="プラン3"),保険料一覧!$G$25,IF(AND(F29<=19,J29="プラン3"),保険料一覧!$G$26,IF(AND(F29<=24,J29="プラン3"),保険料一覧!$G$27,IF(AND(F29<=29,J29="プラン3"),保険料一覧!$G$28,IF(AND(F29<=34,J29="プラン3"),保険料一覧!$G$29,IF(AND(F29<=39,J29="プラン3"),保険料一覧!$G$30,IF(AND(F29<=44,J29="プラン3"),保険料一覧!$G$31,IF(AND(F29<=49,J29="プラン3"),保険料一覧!$G$32,IF(AND(F29<=54,J29="プラン3"),保険料一覧!$G$33,IF(AND(F29<=59,J29="プラン3"),保険料一覧!$G$34,IF(AND(F29<=64,J29="プラン3"),保険料一覧!$G$35,IF(AND(F29<=69,J29="プラン3"),保険料一覧!$G$36,IF(AND(F29<=75,J29="プラン3"),保険料一覧!$G$37,0))))))))))))))))))))))))))))))))))))))))))))) -> 0
A30: 9 | F30: =DATEDIF(E30,$F$11,"Y") -> 0 | K30: =N30+O30+P30 -> 0 | N30: =IF(AND(F30<=4,H30="プラン1"),保険料一覧!$E$2,IF(AND(F30<=9,H30="プラン1"),保険料一覧!$E$3,IF(AND(F30<=14,H30="プラン1"),保険料一覧!$E$4,IF(AND(F30<=19,H30="プラン1"),保険料一覧!$E$5,IF(AND(F30<=24,H30="プラン1"),保険料一覧!$E$6,IF(AND(F30<=29,H30="プラン1"),保険料一覧!$E$7,IF(AND(F30<=34,H30="プラン1"),保険料一覧!$E$8,IF(AND(F30<=39,H30="プラン1"),保険料一覧!$E$9,IF(AND(F30<=44,H30="プラン1"),保険料一覧!$E$10,IF(AND(F30<=49,H30="プラン1"),保険料一覧!$E$11,IF(AND(F30<=54,H30="プラン1"),保険料一覧!$E$12,IF(AND(F30<=59,H30="プラン1"),保険料一覧!$E$13,IF(AND(F30<=64,H30="プラン1"),保険料一覧!$E$14,IF(AND(F30<=69,H30="プラン1"),保険料一覧!$E$15,IF(AND(F30<=75,H30="プラン1"),保険料一覧!$E$16,IF(AND(F30<=4,H30="プラン2"),保険料一覧!$F$2,IF(AND(F30<=9,H30="プラン2"),保険料一覧!$F$3,IF(AND(F30<=14,H30="プラン2"),保険料一覧!$F$4,IF(AND(F30<=19,H30="プラン2"),保険料一覧!$F$5,IF(AND(F30<=24,H30="プラン2"),保険料一覧!$F$6,IF(AND(F30<=29,H30="プラン2"),保険料一覧!$F$7,IF(AND(F30<=34,H30="プラン2"),保険料一覧!$F$8,IF(AND(F30<=39,H30="プラン2"),保険料一覧!$F$9,IF(AND(F30<=44,H30="プラン2"),保険料一覧!$F$10,IF(AND(F30<=49,H30="プラン2"),保険料一覧!$F$11,IF(AND(F30<=54,H30="プラン2"),保険料一覧!$F$12,IF(AND(F30<=59,H30="プラン2"),保険料一覧!$F$13,IF(AND(F30<=64,H30="プラン2"),保険料一覧!$F$14,IF(AND(F30<=69,H30="プラン2"),保険料一覧!$F$15,IF(AND(F30<=75,H30="プラン2"),保険料一覧!$F$16,IF(AND(F30<=4,H30="プラン3"),保険料一覧!$G$2,IF(AND(F30<=9,H30="プラン3"),保険料一覧!$G$3,IF(AND(F30<=14,H30="プラン3"),保険料一覧!$G$4,IF(AND(F30<=19,H30="プラン3"),保険料一覧!$G$5,IF(AND(F30<=24,H30="プラン3"),保険料一覧!$G$6,IF(AND(F30<=29,H30="プラン3"),保険料一覧!$G$7,IF(AND(F30<=34,H30="プラン3"),保険料一覧!$G$8,IF(AND(F30<=39,H30="プラン3"),保険料一覧!$G$9,IF(AND(F30<=44,H30="プラン3"),保険料一覧!$G$10,IF(AND(F30<=49,H30="プラン3"),保険料一覧!$G$11,IF(AND(F30<=54,H30="プラン3"),保険料一覧!$G$12,IF(AND(F30<=59,H30="プラン3"),保険料一覧!$G$13,IF(AND(F30<=64,H30="プラン3"),保険料一覧!$G$14,IF(AND(F30<=69,H30="プラン3"),保険料一覧!$G$15,IF(AND(F30<=75,H30="プラン3"),保険料一覧!$G$16,IF(AND(F30<=4,H30="プラン4"),保険料一覧!$H$2,IF(AND(F30<=9,H30="プラン3"),保険料一覧!$H$3,IF(AND(F30<=14,H30="プラン3"),保険料一覧!$H$4,IF(AND(F30<=19,H30="プラン4"),保険料一覧!$G$5,IF(AND(F30<=24,H30="プラン4"),保険料一覧!$G$6,IF(AND(F30<=29,H30="プラン4"),保険料一覧!$H$7,IF(AND(F30<=34,H30="プラン4"),保険料一覧!$H$8,IF(AND(F30<=39,H30="プラン4"),保険料一覧!$H$9,IF(AND(F30<=44,H30="プラン4"),保険料一覧!$H$10,IF(AND(F30<=49,H30="プラン4"),保険料一覧!$H$11,IF(AND(F30<=54,H30="プラン4"),保険料一覧!$H$12,IF(AND(F30<=59,H30="プラン4"),保険料一覧!$H$13,IF(AND(F30<=64,H30="プラン4"),保険料一覧!$H$14,IF(AND(F30<=69,H30="プラン4"),保険料一覧!$H$15,IF(AND(F30<=75,H30="プラン4"),保険料一覧!$H$16,0)))))))))))))))))))))))))))))))))))))))))))))))))))))))))))) -> 0 | O30: =IF(I30="なし",0,IF(I30="プラン1",保険料一覧!$E$20,IF(お申込書!I30="プラン2",保険料一覧!$F$20,IF(お申込書!I30="プラン3",保険料一覧!$G$20,0)))) -> 0 | P30: =IF(AND(F30<=4,J30="プラン1"),保険料一覧!$E$23,IF(AND(F30<=9,J30="プラン1"),保険料一覧!$E$24,IF(AND(F30<=14,J30="プラン1"),保険料一覧!$E$25,IF(AND(F30<=19,J30="プラン1"),保険料一覧!$E$26,IF(AND(F30<=24,J30="プラン1"),保険料一覧!$E$27,IF(AND(F30<=29,J30="プラン1"),保険料一覧!$E$28,IF(AND(F30<=34,J30="プラン1"),保険料一覧!$E$29,IF(AND(F30<=39,J30="プラン1"),保険料一覧!$E$30,IF(AND(F30<=44,J30="プラン1"),保険料一覧!$E$31,IF(AND(F30<=49,J30="プラン1"),保険料一覧!$E$32,IF(AND(F30<=54,J30="プラン1"),保険料一覧!$E$33,IF(AND(F30<=59,J30="プラン1"),保険料一覧!$E$34,IF(AND(F30<=64,J30="プラン1"),保険料一覧!$E$35,IF(AND(F30<=69,J30="プラン1"),保険料一覧!$E$36,IF(AND(F30<=75,J30="プラン1"),保険料一覧!$E$37,IF(AND(F30<=4,J30="プラン2"),保険料一覧!$F$23,IF(AND(F30<=9,J30="プラン2"),保険料一覧!$F$24,IF(AND(F30<=14,J30="プラン2"),保険料一覧!$F$25,IF(AND(F30<=19,J30="プラン2"),保険料一覧!$F$26,IF(AND(F30<=24,J30="プラン2"),保険料一覧!$F$27,IF(AND(F30<=29,J30="プラン2"),保険料一覧!$F$28,IF(AND(F30<=34,J30="プラン2"),保険料一覧!$F$29,IF(AND(F30<=39,J30="プラン2"),保険料一覧!$F$30,IF(AND(F30<=44,J30="プラン2"),保険料一覧!$F$31,IF(AND(F30<=49,J30="プラン2"),保険料一覧!$F$32,IF(AND(F30<=54,J30="プラン2"),保険料一覧!$F$33,IF(AND(F30<=59,J30="プラン2"),保険料一覧!$F$34,IF(AND(F30<=64,J30="プラン2"),保険料一覧!$F$35,IF(AND(F30<=69,J30="プラン2"),保険料一覧!$F$36,IF(AND(F30<=75,J30="プラン2"),保険料一覧!$F$37,IF(AND(F30<=4,J30="プラン3"),保険料一覧!$G$23,IF(AND(F30<=9,J30="プラン3"),保険料一覧!$G$24,IF(AND(F30<=14,J30="プラン3"),保険料一覧!$G$25,IF(AND(F30<=19,J30="プラン3"),保険料一覧!$G$26,IF(AND(F30<=24,J30="プラン3"),保険料一覧!$G$27,IF(AND(F30<=29,J30="プラン3"),保険料一覧!$G$28,IF(AND(F30<=34,J30="プラン3"),保険料一覧!$G$29,IF(AND(F30<=39,J30="プラン3"),保険料一覧!$G$30,IF(AND(F30<=44,J30="プラン3"),保険料一覧!$G$31,IF(AND(F30<=49,J30="プラン3"),保険料一覧!$G$32,IF(AND(F30<=54,J30="プラン3"),保険料一覧!$G$33,IF(AND(F30<=59,J30="プラン3"),保険料一覧!$G$34,IF(AND(F30<=64,J30="プラン3"),保険料一覧!$G$35,IF(AND(F30<=69,J30="プラン3"),保険料一覧!$G$36,IF(AND(F30<=75,J30="プラン3"),保険料一覧!$G$37,0))))))))))))))))))))))))))))))))))))))))))))) -> 0
A31: 10 | F31: =DATEDIF(E31,$F$11,"Y") -> 0 | K31: =N31+O31+P31 -> 0 | N31: =IF(AND(F31<=4,H31="プラン1"),保険料一覧!$E$2,IF(AND(F31<=9,H31="プラン1"),保険料一覧!$E$3,IF(AND(F31<=14,H31="プラン1"),保険料一覧!$E$4,IF(AND(F31<=19,H31="プラン1"),保険料一覧!$E$5,IF(AND(F31<=24,H31="プラン1"),保険料一覧!$E$6,IF(AND(F31<=29,H31="プラン1"),保険料一覧!$E$7,IF(AND(F31<=34,H31="プラン1"),保険料一覧!$E$8,IF(AND(F31<=39,H31="プラン1"),保険料一覧!$E$9,IF(AND(F31<=44,H31="プラン1"),保険料一覧!$E$10,IF(AND(F31<=49,H31="プラン1"),保険料一覧!$E$11,IF(AND(F31<=54,H31="プラン1"),保険料一覧!$E$12,IF(AND(F31<=59,H31="プラン1"),保険料一覧!$E$13,IF(AND(F31<=64,H31="プラン1"),保険料一覧!$E$14,IF(AND(F31<=69,H31="プラン1"),保険料一覧!$E$15,IF(AND(F31<=75,H31="プラン1"),保険料一覧!$E$16,IF(AND(F31<=4,H31="プラン2"),保険料一覧!$F$2,IF(AND(F31<=9,H31="プラン2"),保険料一覧!$F$3,IF(AND(F31<=14,H31="プラン2"),保険料一覧!$F$4,IF(AND(F31<=19,H31="プラン2"),保険料一覧!$F$5,IF(AND(F31<=24,H31="プラン2"),保険料一覧!$F$6,IF(AND(F31<=29,H31="プラン2"),保険料一覧!$F$7,IF(AND(F31<=34,H31="プラン2"),保険料一覧!$F$8,IF(AND(F31<=39,H31="プラン2"),保険料一覧!$F$9,IF(AND(F31<=44,H31="プラン2"),保険料一覧!$F$10,IF(AND(F31<=49,H31="プラン2"),保険料一覧!$F$11,IF(AND(F31<=54,H31="プラン2"),保険料一覧!$F$12,IF(AND(F31<=59,H31="プラン2"),保険料一覧!$F$13,IF(AND(F31<=64,H31="プラン2"),保険料一覧!$F$14,IF(AND(F31<=69,H31="プラン2"),保険料一覧!$F$15,IF(AND(F31<=75,H31="プラン2"),保険料一覧!$F$16,IF(AND(F31<=4,H31="プラン3"),保険料一覧!$G$2,IF(AND(F31<=9,H31="プラン3"),保険料一覧!$G$3,IF(AND(F31<=14,H31="プラン3"),保険料一覧!$G$4,IF(AND(F31<=19,H31="プラン3"),保険料一覧!$G$5,IF(AND(F31<=24,H31="プラン3"),保険料一覧!$G$6,IF(AND(F31<=29,H31="プラン3"),保険料一覧!$G$7,IF(AND(F31<=34,H31="プラン3"),保険料一覧!$G$8,IF(AND(F31<=39,H31="プラン3"),保険料一覧!$G$9,IF(AND(F31<=44,H31="プラン3"),保険料一覧!$G$10,IF(AND(F31<=49,H31="プラン3"),保険料一覧!$G$11,IF(AND(F31<=54,H31="プラン3"),保険料一覧!$G$12,IF(AND(F31<=59,H31="プラン3"),保険料一覧!$G$13,IF(AND(F31<=64,H31="プラン3"),保険料一覧!$G$14,IF(AND(F31<=69,H31="プラン3"),保険料一覧!$G$15,IF(AND(F31<=75,H31="プラン3"),保険料一覧!$G$16,IF(AND(F31<=4,H31="プラン4"),保険料一覧!$H$2,IF(AND(F31<=9,H31="プラン3"),保険料一覧!$H$3,IF(AND(F31<=14,H31="プラン3"),保険料一覧!$H$4,IF(AND(F31<=19,H31="プラン4"),保険料一覧!$G$5,IF(AND(F31<=24,H31="プラン4"),保険料一覧!$G$6,IF(AND(F31<=29,H31="プラン4"),保険料一覧!$H$7,IF(AND(F31<=34,H31="プラン4"),保険料一覧!$H$8,IF(AND(F31<=39,H31="プラン4"),保険料一覧!$H$9,IF(AND(F31<=44,H31="プラン4"),保険料一覧!$H$10,IF(AND(F31<=49,H31="プラン4"),保険料一覧!$H$11,IF(AND(F31<=54,H31="プラン4"),保険料一覧!$H$12,IF(AND(F31<=59,H31="プラン4"),保険料一覧!$H$13,IF(AND(F31<=64,H31="プラン4"),保険料一覧!$H$14,IF(AND(F31<=69,H31="プラン4"),保険料一覧!$H$15,IF(AND(F31<=75,H31="プラン4"),保険料一覧!$H$16,0)))))))))))))))))))))))))))))))))))))))))))))))))))))))))))) -> 0 | O31: =IF(I31="なし",0,IF(I31="プラン1",保険料一覧!$E$20,IF(お申込書!I31="プラン2",保険料一覧!$F$20,IF(お申込書!I31="プラン3",保険料一覧!$G$20,0)))) -> 0 | P31: =IF(AND(F31<=4,J31="プラン1"),保険料一覧!$E$23,IF(AND(F31<=9,J31="プラン1"),保険料一覧!$E$24,IF(AND(F31<=14,J31="プラン1"),保険料一覧!$E$25,IF(AND(F31<=19,J31="プラン1"),保険料一覧!$E$26,IF(AND(F31<=24,J31="プラン1"),保険料一覧!$E$27,IF(AND(F31<=29,J31="プラン1"),保険料一覧!$E$28,IF(AND(F31<=34,J31="プラン1"),保険料一覧!$E$29,IF(AND(F31<=39,J31="プラン1"),保険料一覧!$E$30,IF(AND(F31<=44,J31="プラン1"),保険料一覧!$E$31,IF(AND(F31<=49,J31="プラン1"),保険料一覧!$E$32,IF(AND(F31<=54,J31="プラン1"),保険料一覧!$E$33,IF(AND(F31<=59,J31="プラン1"),保険料一覧!$E$34,IF(AND(F31<=64,J31="プラン1"),保険料一覧!$E$35,IF(AND(F31<=69,J31="プラン1"),保険料一覧!$E$36,IF(AND(F31<=75,J31="プラン1"),保険料一覧!$E$37,IF(AND(F31<=4,J31="プラン2"),保険料一覧!$F$23,IF(AND(F31<=9,J31="プラン2"),保険料一覧!$F$24,IF(AND(F31<=14,J31="プラン2"),保険料一覧!$F$25,IF(AND(F31<=19,J31="プラン2"),保険料一覧!$F$26,IF(AND(F31<=24,J31="プラン2"),保険料一覧!$F$27,IF(AND(F31<=29,J31="プラン2"),保険料一覧!$F$28,IF(AND(F31<=34,J31="プラン2"),保険料一覧!$F$29,IF(AND(F31<=39,J31="プラン2"),保険料一覧!$F$30,IF(AND(F31<=44,J31="プラン2"),保険料一覧!$F$31,IF(AND(F31<=49,J31="プラン2"),保険料一覧!$F$32,IF(AND(F31<=54,J31="プラン2"),保険料一覧!$F$33,IF(AND(F31<=59,J31="プラン2"),保険料一覧!$F$34,IF(AND(F31<=64,J31="プラン2"),保険料一覧!$F$35,IF(AND(F31<=69,J31="プラン2"),保険料一覧!$F$36,IF(AND(F31<=75,J31="プラン2"),保険料一覧!$F$37,IF(AND(F31<=4,J31="プラン3"),保険料一覧!$G$23,IF(AND(F31<=9,J31="プラン3"),保険料一覧!$G$24,IF(AND(F31<=14,J31="プラン3"),保険料一覧!$G$25,IF(AND(F31<=19,J31="プラン3"),保険料一覧!$G$26,IF(AND(F31<=24,J31="プラン3"),保険料一覧!$G$27,IF(AND(F31<=29,J31="プラン3"),保険料一覧!$G$28,IF(AND(F31<=34,J31="プラン3"),保険料一覧!$G$29,IF(AND(F31<=39,J31="プラン3"),保険料一覧!$G$30,IF(AND(F31<=44,J31="プラン3"),保険料一覧!$G$31,IF(AND(F31<=49,J31="プラン3"),保険料一覧!$G$32,IF(AND(F31<=54,J31="プラン3"),保険料一覧!$G$33,IF(AND(F31<=59,J31="プラン3"),保険料一覧!$G$34,IF(AND(F31<=64,J31="プラン3"),保険料一覧!$G$35,IF(AND(F31<=69,J31="プラン3"),保険料一覧!$G$36,IF(AND(F31<=75,J31="プラン3"),保険料一覧!$G$37,0))))))))))))))))))))))))))))))))))))))))))))) -> 0
B32: Policyholder's Declarations & Acknowledgements | J32: Total | K32: =SUM(K22:K31) -> 0
A33: I declare on behalf of myself and all applicants that the information, replies, confirmations, or details provided by me herein are accurate and complete. I understand that the information in the Application form is the basis for the Insurer's consideration and acceptance of insurance; and if any information provided is incorrect or complete, the Insurer reserves the right not to discharge any claim made by me or the insured and/ or the Insurer has the right to unilaterally terminate the policy with me or the Insured(s). I consent to and warrant consent from the insured to allow the Insurer to collect, use, manage, store or disclose to third parties the personal information of policyholders and the people to be insured (including past or present health and medical treatment information) for appraisal, administration and policy performance. If the applicant is under 18 years of age, I guarantee the same approval from a parent or legal guardian. I accept all terms and conditions as specified in the Insurance Policy and agree to pay the required premium. （私は、自身および全ての申込者を代表し、ここに提供した情報、回答、確認、または詳細が正確かつ完全であることを宣言します。 私は、この申込書の情報が保険会社による保険条件の検討および承諾の基礎となることを理解し、提供した情報が不正確または完全でない場合、保険会社は私または被保険者によるいかなる請求も応じない権利、および保険会社が私または被保険者との契約を一方的に終了させる権利を有していることを理解します。 私は、保険会社が保険契約者および被保険者の個人情報（過去または現在の健康・医療情報を含む）を鑑定、管理、保険金支払などのために収集、使用、管理、保管または第三者に開示することに同意し、被保険者からも承諾を得ていることを保証します。申込者が18歳未満の場合、親または法定代理人の同承認を保証します。 私は、保険証券に明記されているすべての条件を承諾し、必要な保険料を支払うことに同意します。）
B34: On behalf of Insurance Buyer (代表者サイン・捺印欄)
A36: 【WB comment】
E38: Policy Number

Sheet 保険料一覧
A1: 基本補償 | B1: 年齢 | E1: プラン1 | F1: プラン2 | G1: プラン3 | H1: プラン4 | I1: なし
B2: 0 | C2: ～ | D2: 4 | E2: 27416 | F2: 32062 | G2: 34753 | H2: 36455 | I2: 0
B3: 5 | C3: ～ | D3: 9 | E3: 17434 | F3: 20355 | G3: 22034 | H3: 23092 | I3: 0
B4: 10 | C4: ～ | D4: 14 | E4: 15341 | F4: 16974 | G4: 17457 | H4: 21758 | I4: 0
B5: 15 | C5: ～ | D5: 19 | E5: 15341 | F5: 16974 | G5: 17457 | H5: 21758 | I5: 0
B6: 20 | C6: ～ | D6: 24 | E6: 13432 | F6: 14766 | G6: 16100 | H6: 19504 | I6: 0
B7: 25 | C7: ～ | D7: 29 | E7: 14145 | F7: 14306 | G7: 16813 | H7: 20355 | I7: 0
B8: 30 | C8: ～ | D8: 34 | E8: 13708 | F8: 14927 | G8: 16146 | H8: 20217 | I8: 0
B9: 35 | C9: ～ | D9: 39 | E9: 14950 | F9: 17411 | G9: 19021 | H9: 22103 | I9: 0
B10: 40 | C10: ～ | D10: 44 | E10: 15663 | F10: 18515 | G10: 20447 | H10: 25622 | I10: 0
B11: 45 | C11: ～ | D11: 49 | E11: 17319 | F11: 22908 | G11: 25369 | H11: 26887 | I11: 0
B12: 50 | C12: ～ | D12: 54 | E12: 31510 | F12: 37881 | G12: 41837 | H12: 44091 | I12: 0
B13: 55 | C13: ～ | D13: 59 | E13: 38985 | F13: 46529 | G13: 51083 | H13: 53843 | I13: 0
... B16: 70 | C16: ～ | D16: 75 | E16: 67390 | F16: 80408 | G16: 88619 | H16: 92989 | I16: 0
K17: ①歯科治療 Dental
A18: オプション | B18: ①歯科治療 Dental | K18: プラン1 | L18: 4830
E19: プラン1 | F19: プラン2 | G19: プラン3 | H19: なし | K19: プラン2 | L19: 9660
E20: 4830 | F20: 9660 | G20: 14490 | H20: 0 | K20: プラン3 | L20: 14490
B21: ②病気による死亡・後遺障害 Death due to sickness | K21: なし | L21: 0
B22: 年齢 | E22: プラン1 | F22: プラン2 | G22: プラン3 | H22: なし
B23: 0 | C23: ～ | D23: 4 | E23: 1012 | F23: 2024 | G23: 5060 | H23: 0
B24: 5 | C24: ～ | D24: 9 | E24: 644 | F24: 1311 | G24: 3266 | H24: 0
B25: 10 | C25: ～ | D25: 14 | E25: 483 | F25: 989 | G25: 2438 | H25: 0
B26: 15 | C26: ～ | D26: 19 | E26: 483 | F26: 989 | G26: 2438 | H26: 0
B27: 20 | C27: ～ | D27: 24 | E27: 529 | F27: 1035 | G27: 2599 | H27: 0
B28: 25 | C28: ～ | D28: 29 | E28: 575 | F28: 1150 | G28: 2898 | H28: 0
B29: 30 | C29: ～ | D29: 34 | E29: 644 | F29: 1311 | G29: 3266 | H29: 0
B30: 35 | C30: ～ | D30: 39 | E30: 713 | F30: 1426 | G30: 3588 | H30: 0
B31: 40 | C31: ～ | D31: 44 | E31: 759 | F31: 1495 | G31: 3749 | H31: 0
B32: 45 | C32: ～ | D32: 49 | E32: 782 | F32: 1564 | G32: 3910 | H32: 0
B33: 50 | C33: ～ | D33: 54 | E33: 1196 | F33: 2415 | G33: 6026 | H33: 0
B34: 55 | C34: ～ | D34: 59 | E34: 1541 | F34: 3059 | G34: 7659 | H34: 0
... B37: 70 | C37: ～ | D37: 75 | E37: 0 | F37: 0 | G37: 0 | H37: 0
